BEGIN:VCALENDAR
VERSION:2.0
METHOD:PUBLISH
BEGIN:VEVENT
DTSTART:20260424T150000Z
DTEND:20260425T220000Z
LOCATION:Oklahoma City, OK 73120 (Full address will be shown on Thu, Apr 23 12:00pm)
TRANSP: OPAQUE
SEQUENCE:0
UID:
DTSTAMP:20260420T182941Z
SUMMARY:Nichols Hills 1950s 1960s time capsule vintage galore
DESCRIPTION:Nichols Hills 1950s 1960s time capsule vintage galore
UID:1776731381
STREET-ADDRESS:See website
POSTAL-CODE:73120
LOCALITY:Oklahoma City
REGION:ABBREV=OK
COUNTRY:ABBREV=US;ABBREV=USA:United States
URL;TYPE=Event Listing:https://estatesales.org/estate-sales/ok/nichols-hills-/73120/nichols-hills-1950s-1960s-time-2436097
PRIORITY:1
CLASS:PUBLIC
SEQUENCE:0
STATUS:CONFIRMED
TRANSP:OPAQUE
END:VEVENT
END:VCALENDAR
