BEGIN:VCALENDAR
VERSION:2.0
METHOD:PUBLISH
BEGIN:VEVENT
DTSTART:20260424T160000Z
DTEND:20260425T220000Z
LOCATION:Napa, CA 94533 (Full address will be shown on Thu, Apr 23 12:00am)
TRANSP: OPAQUE
SEQUENCE:0
UID:
DTSTAMP:20260421T141902Z
SUMMARY:Final Estate Sale Antiques and Collectibles
DESCRIPTION:Final Estate Sale Antiques and Collectibles
UID:1776802742
STREET-ADDRESS:See website
POSTAL-CODE:94533
LOCALITY:Napa
REGION:ABBREV=CA
COUNTRY:ABBREV=US;ABBREV=USA:United States
URL;TYPE=Event Listing:https://estatesales.org/estate-sales/ca/napa/94533/final-estate-sale-antiques-and-2436395
PRIORITY:1
CLASS:PUBLIC
SEQUENCE:0
STATUS:CONFIRMED
TRANSP:OPAQUE
END:VEVENT
END:VCALENDAR
