BEGIN:VCALENDAR
VERSION:2.0
METHOD:PUBLISH
BEGIN:VEVENT
DTSTART:20260424T160000Z
DTEND:20260425T220000Z
LOCATION:Sacramento, CA 95864 (Full address will be shown on Fri, Apr 24 7:00am)
TRANSP: OPAQUE
SEQUENCE:0
UID:
DTSTAMP:20260421T034633Z
SUMMARY:Fun Sierra Oaks Estate Sale
DESCRIPTION:Fun Sierra Oaks Estate Sale Sacramento Estate Sales Services 
UID:1776764793
STREET-ADDRESS:See website
POSTAL-CODE:95864
LOCALITY:Sacramento
REGION:ABBREV=CA
COUNTRY:ABBREV=US;ABBREV=USA:United States
URL;TYPE=Event Listing:https://estatesales.org/estate-sales/ca/sacramento/95864/fun-sierra-oaks-estate-sale-2436311
PRIORITY:1
CLASS:PUBLIC
SEQUENCE:0
STATUS:CONFIRMED
TRANSP:OPAQUE
END:VEVENT
END:VCALENDAR
