BEGIN:VCALENDAR
VERSION:2.0
METHOD:PUBLISH
BEGIN:VEVENT
DTSTART:20260424T150000Z
DTEND:20260425T210000Z
LOCATION:Edmond, OK 73013 (Full address will be shown on Thu, Apr 23 12:00am)
TRANSP: OPAQUE
SEQUENCE:0
UID:
DTSTAMP:20260421T005712Z
SUMMARY:PJ's Four Star Estate Sales presents wonderful Granny Chic house full April 24 and 25 from 9-3 each day in Spring Hill addition Edmond off 33rd
DESCRIPTION:PJ's Four Star Estate Sales presents wonderful Granny Chic house full April 24 and 25 from 9-3 each day in Spring Hill addition Edmond off 33rd PJ'S Four Star Estate Sales llc 
UID:1776754632
STREET-ADDRESS:See website
POSTAL-CODE:73013
LOCALITY:Edmond
REGION:ABBREV=OK
COUNTRY:ABBREV=US;ABBREV=USA:United States
URL;TYPE=Event Listing:https://estatesales.org/estate-sales/ok/edmond-/73013/pjs-four-star-estate-sales-2436292
PRIORITY:1
CLASS:PUBLIC
SEQUENCE:0
STATUS:CONFIRMED
TRANSP:OPAQUE
END:VEVENT
END:VCALENDAR
