BEGIN:VCALENDAR
VERSION:2.0
METHOD:PUBLISH
BEGIN:VEVENT
DTSTART:20260424T160000Z
DTEND:20260425T220000Z
LOCATION:Valley Center, CA 92082 (Full address will be shown on Thu, Apr 23 12:00am)
TRANSP: OPAQUE
SEQUENCE:0
UID:
DTSTAMP:20260419T205333Z
SUMMARY:Valley Center Estate Sale!
DESCRIPTION:Valley Center Estate Sale! Estate Sale 4 U 
UID:1776653613
STREET-ADDRESS:See website
POSTAL-CODE:92082
LOCALITY:Valley Center
REGION:ABBREV=CA
COUNTRY:ABBREV=US;ABBREV=USA:United States
URL;TYPE=Event Listing:https://estatesales.org/estate-sales/ca/valley-center/92082/valley-center-estate-sale-2436067
PRIORITY:1
CLASS:PUBLIC
SEQUENCE:0
STATUS:CONFIRMED
TRANSP:OPAQUE
END:VEVENT
END:VCALENDAR
