BEGIN:VCALENDAR
VERSION:2.0
METHOD:PUBLISH
BEGIN:VEVENT
DTSTART:20260424T150000Z
DTEND:20260425T210000Z
LOCATION:Oklahoma City, OK 73116 (Full address will be shown on Thu, Apr 23 6:00am)
TRANSP: OPAQUE
SEQUENCE:0
UID:
DTSTAMP:20260419T191749Z
SUMMARY:Lemon Drop Luxury Glam Pop Vintage with Chanel, Dior, Tiffany, 18kt & French Antiques
DESCRIPTION:Lemon Drop Luxury Glam Pop Vintage with Chanel, Dior, Tiffany, 18kt & French Antiques Swan Estate Sales 
UID:1776647869
STREET-ADDRESS:See website
POSTAL-CODE:73116
LOCALITY:Oklahoma City
REGION:ABBREV=OK
COUNTRY:ABBREV=US;ABBREV=USA:United States
URL;TYPE=Event Listing:https://estatesales.org/estate-sales/ok/oklahoma-city/73116/lemon-drop-luxury-glam-pop-2435899
PRIORITY:1
CLASS:PUBLIC
SEQUENCE:0
STATUS:CONFIRMED
TRANSP:OPAQUE
END:VEVENT
END:VCALENDAR
