BEGIN:VCALENDAR
VERSION:2.0
METHOD:PUBLISH
BEGIN:VEVENT
DTSTART:20260424T130000Z
DTEND:20260425T180000Z
LOCATION:Plant City, FL 33566 (Full address will be shown on Wed, Apr 22 12:00am)
TRANSP: OPAQUE
SEQUENCE:0
UID:
DTSTAMP:20260421T133651Z
SUMMARY:Plant City 2 Day Estate Sale Hosted by Fresh Start Estate Liquidators
DESCRIPTION:Plant City 2 Day Estate Sale Hosted by Fresh Start Estate Liquidators Fresh Start Estate Liquidators 
UID:1776800211
STREET-ADDRESS:See website
POSTAL-CODE:33566
LOCALITY:Plant City
REGION:ABBREV=FL
COUNTRY:ABBREV=US;ABBREV=USA:United States
URL;TYPE=Event Listing:https://estatesales.org/estate-sales/fl/plant-city-/33566/plant-city-2-day-estate-2436356
PRIORITY:1
CLASS:PUBLIC
SEQUENCE:0
STATUS:CONFIRMED
TRANSP:OPAQUE
END:VEVENT
END:VCALENDAR
