BEGIN:VCALENDAR
VERSION:2.0
METHOD:PUBLISH
BEGIN:VEVENT
DTSTART:20260424T130000Z
DTEND:20260425T180000Z
LOCATION:Sarasota, FL 34243 (Full address will be shown on Thu, Apr 23 12:00am)
TRANSP: OPAQUE
SEQUENCE:0
UID:
DTSTAMP:20260422T120533Z
SUMMARY:Global Treasures & Modern Essentials
DESCRIPTION:Global Treasures & Modern Essentials Gentle Touch Estate Sales LLC 
UID:1776881133
STREET-ADDRESS:See website
POSTAL-CODE:34243
LOCALITY:Sarasota
REGION:ABBREV=FL
COUNTRY:ABBREV=US;ABBREV=USA:United States
URL;TYPE=Event Listing:https://estatesales.org/estate-sales/fl/sarasota/34243/global-treasures-modern-essentials-2436216
PRIORITY:1
CLASS:PUBLIC
SEQUENCE:0
STATUS:CONFIRMED
TRANSP:OPAQUE
END:VEVENT
END:VCALENDAR
