BEGIN:VCALENDAR
VERSION:2.0
METHOD:PUBLISH
BEGIN:VEVENT
DTSTART:20260424T160000Z
DTEND:20260425T200000Z
LOCATION:Roseville, CA 95678 (Full address will be shown on Thu, Apr 23 7:00pm)
TRANSP: OPAQUE
SEQUENCE:0
UID:
DTSTAMP:20260422T003041Z
SUMMARY:Vintage Treasures, Collectibles & More – Estate Sale You Don’t Want to Miss!
DESCRIPTION:Vintage Treasures, Collectibles & More – Estate Sale You Don’t Want to Miss! Family Nest Sacramento 
UID:1776839441
STREET-ADDRESS:See website
POSTAL-CODE:95678
LOCALITY:Roseville
REGION:ABBREV=CA
COUNTRY:ABBREV=US;ABBREV=USA:United States
URL;TYPE=Event Listing:https://estatesales.org/estate-sales/ca/roseville/95678/vintage-treasures-collectibles-more-estate-2436521
PRIORITY:1
CLASS:PUBLIC
SEQUENCE:0
STATUS:CONFIRMED
TRANSP:OPAQUE
END:VEVENT
END:VCALENDAR
