BEGIN:VCALENDAR
VERSION:2.0
METHOD:PUBLISH
BEGIN:VEVENT
DTSTART:20260424T150000Z
DTEND:20260425T190000Z
LOCATION:Edmond, OK 73034 (Full address will be shown on Fri, Apr 24 6:00am)
TRANSP: OPAQUE
SEQUENCE:0
UID:
DTSTAMP:20260421T030558Z
SUMMARY:Edmond Estate Sale
DESCRIPTION:Edmond Estate Sale Vincent Estate Sales 
UID:1776762358
STREET-ADDRESS:See website
POSTAL-CODE:73034
LOCALITY:Edmond
REGION:ABBREV=OK
COUNTRY:ABBREV=US;ABBREV=USA:United States
URL;TYPE=Event Listing:https://estatesales.org/estate-sales/ok/edmond-/73034/edmond-estate-sale-2436315
PRIORITY:1
CLASS:PUBLIC
SEQUENCE:0
STATUS:CONFIRMED
TRANSP:OPAQUE
END:VEVENT
END:VCALENDAR
