BEGIN:VCALENDAR
VERSION:2.0
METHOD:PUBLISH
BEGIN:VEVENT
DTSTART:20260424T140000Z
DTEND:20260425T180000Z
LOCATION:Spring, TX 77388 (Full address will be shown on Thu, Apr 23 7:00pm)
TRANSP: OPAQUE
SEQUENCE:0
UID:
DTSTAMP:20260422T200359Z
SUMMARY:Spring- Bridgestone SALE
DESCRIPTION:Spring- Bridgestone SALE Caring Transitions CyFair and Surrounding Area 
UID:1776909839
STREET-ADDRESS:See website
POSTAL-CODE:77388
LOCALITY:Spring
REGION:ABBREV=TX
COUNTRY:ABBREV=US;ABBREV=USA:United States
URL;TYPE=Event Listing:https://estatesales.org/estate-sales/tx/spring/77388/spring-bridgestone-sale-2436234
PRIORITY:1
CLASS:PUBLIC
SEQUENCE:0
STATUS:CONFIRMED
TRANSP:OPAQUE
END:VEVENT
END:VCALENDAR
