BEGIN:VCALENDAR
VERSION:2.0
METHOD:PUBLISH
BEGIN:VEVENT
DTSTART:20260424T130000Z
DTEND:20260425T170000Z
LOCATION:Savannah, GA 31410 (Full address will be shown on Thu, Apr 23 7:00am)
TRANSP: OPAQUE
SEQUENCE:0
UID:
DTSTAMP:20260419T233314Z
SUMMARY:Wilmington Island Estate Sale | Savannah
DESCRIPTION:Wilmington Island Estate Sale | Savannah Selistin Estate Sale 
UID:1776663194
STREET-ADDRESS:See website
POSTAL-CODE:31410
LOCALITY:Savannah
REGION:ABBREV=GA
COUNTRY:ABBREV=US;ABBREV=USA:United States
URL;TYPE=Event Listing:https://estatesales.org/estate-sales/ga/savannah/31410/wilmington-island-estate-sale-savannah-2436086
PRIORITY:1
CLASS:PUBLIC
SEQUENCE:0
STATUS:CONFIRMED
TRANSP:OPAQUE
END:VEVENT
END:VCALENDAR
