BEGIN:VCALENDAR
VERSION:2.0
METHOD:PUBLISH
BEGIN:VEVENT
DTSTART:20260424T130000Z
DTEND:20260424T180000Z
LOCATION:Concord, MA 01742 (Full address will be shown on Thu, Apr 23 8:00pm)
TRANSP: OPAQUE
SEQUENCE:0
UID:
DTSTAMP:20260423T105822Z
SUMMARY:GREAT CONCORD ESTATE SALE FRI APRIL 24TH 9AM-2PM ANTIQUES, HUGE CHRISTMAS VILLAGE, COSTUME JEWELRY, OLD DOLLS, CUTCO KNIVES, ELECTRONICS & MORE! ONE DAY ONLY!
DESCRIPTION:GREAT CONCORD ESTATE SALE FRI APRIL 24TH 9AM-2PM ANTIQUES, HUGE CHRISTMAS VILLAGE, COSTUME JEWELRY, OLD DOLLS, CUTCO KNIVES, ELECTRONICS & MORE! ONE DAY ONLY! BEST RATE CLEANOUTS & ESTATE SALES 
UID:1776963502
STREET-ADDRESS:See website
POSTAL-CODE:01742
LOCALITY:Concord
REGION:ABBREV=MA
COUNTRY:ABBREV=US;ABBREV=USA:United States
URL;TYPE=Event Listing:https://estatesales.org/estate-sales/ma/concord/01742/great-concord-estate-sale-fri-2436237
PRIORITY:1
CLASS:PUBLIC
SEQUENCE:0
STATUS:CONFIRMED
TRANSP:OPAQUE
END:VEVENT
END:VCALENDAR
