BEGIN:VCALENDAR
VERSION:2.0
METHOD:PUBLISH
BEGIN:VEVENT
DTSTART:20260424T143000Z
DTEND:20260425T200000Z
LOCATION:Corvallis, OR 97330 (Full address will be shown on Fri, Apr 24 5:00am)
TRANSP: OPAQUE
SEQUENCE:0
UID:
DTSTAMP:20260421T015611Z
SUMMARY:Corvallis Estate Sale
DESCRIPTION:Corvallis Estate Sale The Right People, LLC 
UID:1776758171
STREET-ADDRESS:See website
POSTAL-CODE:97330
LOCALITY:Corvallis
REGION:ABBREV=OR
COUNTRY:ABBREV=US;ABBREV=USA:United States
URL;TYPE=Event Listing:https://estatesales.org/estate-sales/or/corvallis/97330/corvallis-estate-sale-2436286
PRIORITY:1
CLASS:PUBLIC
SEQUENCE:0
STATUS:CONFIRMED
TRANSP:OPAQUE
END:VEVENT
END:VCALENDAR
