BEGIN:VCALENDAR
VERSION:2.0
METHOD:PUBLISH
BEGIN:VEVENT
DTSTART:20260424T123000Z
DTEND:20260425T180000Z
LOCATION:Lake Mary, FL 32746 (Full address will be shown on Thu, Apr 23 12:00am)
TRANSP: OPAQUE
SEQUENCE:0
UID:
DTSTAMP:20260422T200359Z
SUMMARY:Estate Sale in Heathrow Lk Mary
DESCRIPTION:Estate Sale in Heathrow Lk Mary Orlando Estate Sale Ladies, LLC 
UID:1776909839
STREET-ADDRESS:See website
POSTAL-CODE:32746
LOCALITY:Lake Mary
REGION:ABBREV=FL
COUNTRY:ABBREV=US;ABBREV=USA:United States
URL;TYPE=Event Listing:https://estatesales.org/estate-sales/fl/lake-mary/32746/estate-sale-in-heathrow-lk-2436275
PRIORITY:1
CLASS:PUBLIC
SEQUENCE:0
STATUS:CONFIRMED
TRANSP:OPAQUE
END:VEVENT
END:VCALENDAR
