BEGIN:VCALENDAR
VERSION:2.0
METHOD:PUBLISH
BEGIN:VEVENT
DTSTART:20260424T150000Z
DTEND:20260426T200000Z
LOCATION:Phoenix, AZ 85013 (Full address will be shown on Thu, Apr 23 12:00am)
TRANSP: OPAQUE
SEQUENCE:0
UID:
DTSTAMP:20260422T122256Z
SUMMARY:Sale by Cyndi
DESCRIPTION:Sale by Cyndi
UID:1776882176
STREET-ADDRESS:See website
POSTAL-CODE:85013
LOCALITY:Phoenix
REGION:ABBREV=AZ
COUNTRY:ABBREV=US;ABBREV=USA:United States
URL;TYPE=Event Listing:https://estatesales.org/estate-sales/az/phoenix-/85013/sale-by-cyndi-2436566
PRIORITY:1
CLASS:PUBLIC
SEQUENCE:0
STATUS:CONFIRMED
TRANSP:OPAQUE
END:VEVENT
END:VCALENDAR
