BEGIN:VCALENDAR
VERSION:2.0
METHOD:PUBLISH
BEGIN:VEVENT
DTSTART:20260424T140000Z
DTEND:20260425T200000Z
LOCATION:Kuna, ID 83634 (Full address will be shown on Thu, Apr 23 12:00am)
TRANSP: OPAQUE
SEQUENCE:0
UID:
DTSTAMP:20260419T114638Z
SUMMARY:Idaho ETS Kuna Estate Sale
DESCRIPTION:Idaho ETS Kuna Estate Sale Idaho Estate Transition Solutions 
UID:1776620798
STREET-ADDRESS:See website
POSTAL-CODE:83634
LOCALITY:Kuna
REGION:ABBREV=ID
COUNTRY:ABBREV=US;ABBREV=USA:United States
URL;TYPE=Event Listing:https://estatesales.org/estate-sales/id/kuna/83634/idaho-ets-kuna-estate-sale-2435978
PRIORITY:1
CLASS:PUBLIC
SEQUENCE:0
STATUS:CONFIRMED
TRANSP:OPAQUE
END:VEVENT
END:VCALENDAR
