BEGIN:VCALENDAR
VERSION:2.0
METHOD:PUBLISH
BEGIN:VEVENT
DTSTART:20260424T150000Z
DTEND:20260425T200000Z
LOCATION:Mesa, AZ 85205 (Full address will be shown on Fri, Apr 24 5:00am)
TRANSP: OPAQUE
SEQUENCE:0
UID:
DTSTAMP:20260423T010858Z
SUMMARY:Massive Mesa Sale, Vintage Dolls, Miniatures, Glassware, Vintage & More by Grasons
DESCRIPTION:Massive Mesa Sale, Vintage Dolls, Miniatures, Glassware, Vintage & More by Grasons Grasons of Scottsdale, AZ 
UID:1776928138
STREET-ADDRESS:See website
POSTAL-CODE:85205
LOCALITY:Mesa
REGION:ABBREV=AZ
COUNTRY:ABBREV=US;ABBREV=USA:United States
URL;TYPE=Event Listing:https://estatesales.org/estate-sales/az/mesa/85205/massive-mesa-sale-vintage-dolls-2436769
PRIORITY:1
CLASS:PUBLIC
SEQUENCE:0
STATUS:CONFIRMED
TRANSP:OPAQUE
END:VEVENT
END:VCALENDAR
