BEGIN:VCALENDAR
VERSION:2.0
METHOD:PUBLISH
BEGIN:VEVENT
DTSTART:20260424T150000Z
DTEND:20260425T200000Z
LOCATION:Gardena, CA 90249 (Full address will be shown on Fri, Apr 24 5:00am)
TRANSP: OPAQUE
SEQUENCE:0
UID:
DTSTAMP:20260421T022728Z
SUMMARY:Grasons South Bay 2-Day Gardena Estate Sale
DESCRIPTION:Grasons South Bay 2-Day Gardena Estate Sale Grasons Co South Bay Beachside 
UID:1776760048
STREET-ADDRESS:See website
POSTAL-CODE:90249
LOCALITY:Gardena
REGION:ABBREV=CA
COUNTRY:ABBREV=US;ABBREV=USA:United States
URL;TYPE=Event Listing:https://estatesales.org/estate-sales/ca/gardena/90249/grasons-south-bay-2day-gardena-2436312
PRIORITY:1
CLASS:PUBLIC
SEQUENCE:0
STATUS:CONFIRMED
TRANSP:OPAQUE
END:VEVENT
END:VCALENDAR
