BEGIN:VCALENDAR
VERSION:2.0
METHOD:PUBLISH
BEGIN:VEVENT
DTSTART:20260424T150000Z
DTEND:20260424T210000Z
LOCATION:Joshua Tree, CA 92252 (Full address will be shown on Thu, Apr 23 5:00pm)
TRANSP: OPAQUE
SEQUENCE:0
UID:
DTSTAMP:20260422T132824Z
SUMMARY:Joshua Tree Estate Sale
DESCRIPTION:Joshua Tree Estate Sale Kate's Estate Sales & Liquidation 
UID:1776886104
STREET-ADDRESS:See website
POSTAL-CODE:92252
LOCALITY:Joshua Tree
REGION:ABBREV=CA
COUNTRY:ABBREV=US;ABBREV=USA:United States
URL;TYPE=Event Listing:https://estatesales.org/estate-sales/ca/joshua-tree/92252/joshua-tree-estate-sale-2436562
PRIORITY:1
CLASS:PUBLIC
SEQUENCE:0
STATUS:CONFIRMED
TRANSP:OPAQUE
END:VEVENT
END:VCALENDAR
