BEGIN:VCALENDAR
VERSION:2.0
METHOD:PUBLISH
BEGIN:VEVENT
DTSTART:20250424T170000Z
DTEND:20250426T210000Z
LOCATION:Rancho Palos Verdes, CA 90275
TRANSP: OPAQUE
SEQUENCE:0
UID:
DTSTAMP:20260420T002752Z
SUMMARY:*75% Off Saturday 9a-2p.
DESCRIPTION:*75% Off Saturday 9a-2p. Diamond Heirlooms Estate Sales & Consulting  LLC 
UID:1776666472
STREET-ADDRESS:See website
POSTAL-CODE:90275
LOCALITY:Rancho Palos Verdes
REGION:ABBREV=CA
COUNTRY:ABBREV=US;ABBREV=USA:United States
URL;TYPE=Event Listing:https://estatesales.org/estate-sales/ca/rancho-palos-verdes/90275/75-off-saturday-9a2p-2373739
PRIORITY:1
CLASS:PUBLIC
SEQUENCE:0
STATUS:CONFIRMED
TRANSP:OPAQUE
END:VEVENT
END:VCALENDAR
