BEGIN:VCALENDAR
VERSION:2.0
METHOD:PUBLISH
BEGIN:VEVENT
DTSTART:20250424T130000Z
DTEND:20250425T190000Z
LOCATION:Wildwood, FL 34785
TRANSP: OPAQUE
SEQUENCE:0
UID:
DTSTAMP:20260419T113746Z
SUMMARY:50% off VILLAGE OF FENNEY
DESCRIPTION:50% off VILLAGE OF FENNEY Extra Step Estate Sales LLC 
UID:1776620266
STREET-ADDRESS:See website
POSTAL-CODE:34785
LOCALITY:Wildwood
REGION:ABBREV=FL
COUNTRY:ABBREV=US;ABBREV=USA:United States
URL;TYPE=Event Listing:https://estatesales.org/estate-sales/fl/wildwood/34785/village-of-fenney-2373339
PRIORITY:1
CLASS:PUBLIC
SEQUENCE:0
STATUS:CONFIRMED
TRANSP:OPAQUE
END:VEVENT
END:VCALENDAR
