BEGIN:VCALENDAR
VERSION:2.0
METHOD:PUBLISH
BEGIN:VEVENT
DTSTART:20250424T150000Z
DTEND:20250426T210000Z
LOCATION:Prescott, AZ 86303
TRANSP: OPAQUE
SEQUENCE:0
UID:
DTSTAMP:20260424T180638Z
SUMMARY:****PACK YOUR BAGS FOR INCREDIBLE PRESCOTT***
DESCRIPTION:****PACK YOUR BAGS FOR INCREDIBLE PRESCOTT*** Anderson Family Estate Sales & Services, LLC 
UID:1777075598
STREET-ADDRESS:See website
POSTAL-CODE:86303
LOCALITY:Prescott
REGION:ABBREV=AZ
COUNTRY:ABBREV=US;ABBREV=USA:United States
URL;TYPE=Event Listing:https://estatesales.org/estate-sales/az/prescott/86303/pack-your-bags-for-incredible-2366706
PRIORITY:1
CLASS:PUBLIC
SEQUENCE:0
STATUS:CONFIRMED
TRANSP:OPAQUE
END:VEVENT
END:VCALENDAR
