BEGIN:VCALENDAR
VERSION:2.0
METHOD:PUBLISH
BEGIN:VEVENT
DTSTART:20210424T160000Z
DTEND:20210424T200000Z
LOCATION:Concord, CA 94521
TRANSP: OPAQUE
SEQUENCE:0
UID:
DTSTAMP:20260422T005314Z
SUMMARY:4/24 Concord Tool Antique Cookware Collectible Sale
DESCRIPTION:4/24 Concord Tool Antique Cookware Collectible Sale Anton's Antiques 
UID:1776840794
STREET-ADDRESS:See website
POSTAL-CODE:94521
LOCALITY:Concord
REGION:ABBREV=CA
COUNTRY:ABBREV=US;ABBREV=USA:United States
URL;TYPE=Event Listing:https://estatesales.org/estate-sales/ca/concord/94521/424-concord-tool-antique-cookware-1893091
PRIORITY:1
CLASS:PUBLIC
SEQUENCE:0
STATUS:CONFIRMED
TRANSP:OPAQUE
END:VEVENT
END:VCALENDAR
