BEGIN:VCALENDAR
VERSION:2.0
METHOD:PUBLISH
BEGIN:VEVENT
DTSTART:20150424T150000Z
DTEND:20150426T210000Z
LOCATION:Colgate, WI 53017
TRANSP: OPAQUE
SEQUENCE:0
UID:
DTSTAMP:20260420T030214Z
SUMMARY:Collectible Colgate Sale
DESCRIPTION:Collectible Colgate Sale All in the Family Estate Sales 
UID:1776675734
STREET-ADDRESS:See website
POSTAL-CODE:53017
LOCALITY:Colgate
REGION:ABBREV=WI
COUNTRY:ABBREV=US;ABBREV=USA:United States
URL;TYPE=Event Listing:https://estatesales.org/estate-sales/wi/colgate/53017/collectible-colgate-sale-529202
PRIORITY:1
CLASS:PUBLIC
SEQUENCE:0
STATUS:CONFIRMED
TRANSP:OPAQUE
END:VEVENT
END:VCALENDAR
