BEGIN:VCALENDAR
VERSION:2.0
METHOD:PUBLISH
BEGIN:VEVENT
DTSTART:20260423T150000Z
DTEND:20260426T210000Z
LOCATION:Palatine, IL 60074 (Full address will be shown on Wed, Apr 22 9:00am)
TRANSP: OPAQUE
SEQUENCE:0
UID:
DTSTAMP:20260422T035723Z
SUMMARY:Palatine Estate Sale - Quality Furniture, Home & Holiday Decor, Clothing, Garage Goodies, Jewelry
DESCRIPTION:Palatine Estate Sale - Quality Furniture, Home & Holiday Decor, Clothing, Garage Goodies, Jewelry Brie's Estate Sales 
UID:1776851843
STREET-ADDRESS:See website
POSTAL-CODE:60074
LOCALITY:Palatine
REGION:ABBREV=IL
COUNTRY:ABBREV=US;ABBREV=USA:United States
URL;TYPE=Event Listing:https://estatesales.org/estate-sales/il/palatine/60074/palatine-estate-sale-quality-furniture-2436324
PRIORITY:1
CLASS:PUBLIC
SEQUENCE:0
STATUS:CONFIRMED
TRANSP:OPAQUE
END:VEVENT
END:VCALENDAR
