BEGIN:VCALENDAR
VERSION:2.0
METHOD:PUBLISH
BEGIN:VEVENT
DTSTART:20260423T150000Z
DTEND:20260426T210000Z
LOCATION:Fond Du Lac, WI 54937 (Full address will be shown on Wed, Apr 22 12:00am)
TRANSP: OPAQUE
SEQUENCE:0
UID:
DTSTAMP:20260419T173527Z
SUMMARY:FOND DU LAC ESTATE SALE – MID-CENTURY MODERN, PACKERS MEMORABILIA & MORE!
DESCRIPTION:FOND DU LAC ESTATE SALE – MID-CENTURY MODERN, PACKERS MEMORABILIA & MORE! Best Estate Services Inc. 
UID:1776641727
STREET-ADDRESS:See website
POSTAL-CODE:54937
LOCALITY:Fond Du Lac
REGION:ABBREV=WI
COUNTRY:ABBREV=US;ABBREV=USA:United States
URL;TYPE=Event Listing:https://estatesales.org/estate-sales/wi/fond-du-lac/54937/fond-du-lac-estate-sale-2435903
PRIORITY:1
CLASS:PUBLIC
SEQUENCE:0
STATUS:CONFIRMED
TRANSP:OPAQUE
END:VEVENT
END:VCALENDAR
