BEGIN:VCALENDAR
VERSION:2.0
METHOD:PUBLISH
BEGIN:VEVENT
DTSTART:20260423T170000Z
DTEND:20260425T183000Z
LOCATION:San Ramon, CA 94583
TRANSP: OPAQUE
SEQUENCE:0
UID:
DTSTAMP:20260425T153158Z
SUMMARY:Grasons Co of CCC - 20% OFF San Ramon Beauty Salon Liquidation Sale
DESCRIPTION:Grasons Co of CCC - 20% OFF San Ramon Beauty Salon Liquidation Sale Grasons Co of Contra Costa County 
UID:1777152718
STREET-ADDRESS:See website
POSTAL-CODE:94583
LOCALITY:San Ramon
REGION:ABBREV=CA
COUNTRY:ABBREV=US;ABBREV=USA:United States
URL;TYPE=Event Listing:https://estatesales.org/estate-sales/ca/san-ramon/94583/grasons-co-of-ccc-20-2435164
PRIORITY:1
CLASS:PUBLIC
SEQUENCE:0
STATUS:CONFIRMED
TRANSP:OPAQUE
END:VEVENT
END:VCALENDAR
