BEGIN:VCALENDAR
VERSION:2.0
METHOD:PUBLISH
BEGIN:VEVENT
DTSTART:20260423T160000Z
DTEND:20260425T220000Z
LOCATION:Aurora, CO 80014 (Full address will be shown on Thu, Apr 23 6:00am)
TRANSP: OPAQUE
SEQUENCE:0
UID:
DTSTAMP:20260422T162052Z
SUMMARY:Amazing in Aurora!
DESCRIPTION:Amazing in Aurora! A Prestige Estate Services Company 
UID:1776896452
STREET-ADDRESS:See website
POSTAL-CODE:80014
LOCALITY:Aurora
REGION:ABBREV=CO
COUNTRY:ABBREV=US;ABBREV=USA:United States
URL;TYPE=Event Listing:https://estatesales.org/estate-sales/co/aurora/80014/amazing-in-aurora-2436663
PRIORITY:1
CLASS:PUBLIC
SEQUENCE:0
STATUS:CONFIRMED
TRANSP:OPAQUE
END:VEVENT
END:VCALENDAR
