BEGIN:VCALENDAR
VERSION:2.0
METHOD:PUBLISH
BEGIN:VEVENT
DTSTART:20260423T170000Z
DTEND:20260425T230000Z
LOCATION:Alameda, CA 94501 (Full address will be shown on Thu, Apr 23 12:00am)
TRANSP: OPAQUE
SEQUENCE:0
UID:
DTSTAMP:20260419T194546Z
SUMMARY:Lynn's is excited to present a Gold Coast estate spanning nearly a century — from deco to wartime antiques and MCM gems to vintage barware, vinyl, and so much more.
DESCRIPTION:Lynn's is excited to present a Gold Coast estate spanning nearly a century — from deco to wartime antiques and MCM gems to vintage barware, vinyl, and so much more. Lynn's of Alameda LLC 
UID:1776649546
STREET-ADDRESS:See website
POSTAL-CODE:94501
LOCALITY:Alameda
REGION:ABBREV=CA
COUNTRY:ABBREV=US;ABBREV=USA:United States
URL;TYPE=Event Listing:https://estatesales.org/estate-sales/ca/alameda/94501/lynns-is-excited-to-present-2436046
PRIORITY:1
CLASS:PUBLIC
SEQUENCE:0
STATUS:CONFIRMED
TRANSP:OPAQUE
END:VEVENT
END:VCALENDAR
