BEGIN:VCALENDAR
VERSION:2.0
METHOD:PUBLISH
BEGIN:VEVENT
DTSTART:20260423T150000Z
DTEND:20260425T210000Z
LOCATION:Galveston, TX 77554 (Full address will be shown on Wed, Apr 22 9:00pm)
TRANSP: OPAQUE
SEQUENCE:0
UID:
DTSTAMP:20260421T233231Z
SUMMARY:Tiki Island Estate, Fishing Equiptment, Nautical Music, Vinyl, Decor, Gaming Equiptment, Atrwork, 1950's MCM, 1920's Antiques, Hunting, Jewelry, Tools, Beach Cruisers, Record Albums - DISCOUNTS
DESCRIPTION:Tiki Island Estate, Fishing Equiptment, Nautical Music, Vinyl, Decor, Gaming Equiptment, Atrwork, 1950's MCM, 1920's Antiques, Hunting, Jewelry, Tools, Beach Cruisers, Record Albums - DISCOUNTS AEP Estate Liquidation 
UID:1776835951
STREET-ADDRESS:See website
POSTAL-CODE:77554
LOCALITY:Galveston
REGION:ABBREV=TX
COUNTRY:ABBREV=US;ABBREV=USA:United States
URL;TYPE=Event Listing:https://estatesales.org/estate-sales/tx/galveston/77554/tiki-island-estate-fishing-equiptment-2435960
PRIORITY:1
CLASS:PUBLIC
SEQUENCE:0
STATUS:CONFIRMED
TRANSP:OPAQUE
END:VEVENT
END:VCALENDAR
