BEGIN:VCALENDAR
VERSION:2.0
METHOD:PUBLISH
BEGIN:VEVENT
DTSTART:20260423T160000Z
DTEND:20260425T210000Z
LOCATION:Bellingham, WA 98225 (Full address will be shown on Thu, Apr 23 8:00am)
TRANSP: OPAQUE
SEQUENCE:0
UID:
DTSTAMP:20260420T082345Z
SUMMARY:Grasons of Mount Vernon - SURPRISE pop up sale - 3 days - Bellingham
DESCRIPTION:Grasons of Mount Vernon - SURPRISE pop up sale - 3 days - Bellingham Grasons of Mount Vernon, WA 
UID:1776695025
STREET-ADDRESS:See website
POSTAL-CODE:98225
LOCALITY:Bellingham
REGION:ABBREV=WA
COUNTRY:ABBREV=US;ABBREV=USA:United States
URL;TYPE=Event Listing:https://estatesales.org/estate-sales/wa/bellingham/98225/grasons-of-mount-vernon-surprise-2435928
PRIORITY:1
CLASS:PUBLIC
SEQUENCE:0
STATUS:CONFIRMED
TRANSP:OPAQUE
END:VEVENT
END:VCALENDAR
