BEGIN:VCALENDAR
VERSION:2.0
METHOD:PUBLISH
BEGIN:VEVENT
DTSTART:20260423T140000Z
DTEND:20260424T190000Z
LOCATION:Livingston, NJ 07039 (Full address will be shown on Wed, Apr 22 12:00am)
TRANSP: OPAQUE
SEQUENCE:0
UID:
DTSTAMP:20260419T223210Z
SUMMARY:QUALITY - Livingston House - High End Items
DESCRIPTION:QUALITY - Livingston House - High End Items Estate Liquidator 
UID:1776659530
STREET-ADDRESS:See website
POSTAL-CODE:07039
LOCALITY:Livingston
REGION:ABBREV=NJ
COUNTRY:ABBREV=US;ABBREV=USA:United States
URL;TYPE=Event Listing:https://estatesales.org/estate-sales/nj/livingston/07039/quality-livingston-house-high-end-2436091
PRIORITY:1
CLASS:PUBLIC
SEQUENCE:0
STATUS:CONFIRMED
TRANSP:OPAQUE
END:VEVENT
END:VCALENDAR
