BEGIN:VCALENDAR
VERSION:2.0
METHOD:PUBLISH
BEGIN:VEVENT
DTSTART:20260423T170000Z
DTEND:20260424T200000Z
LOCATION:Santa Clara, CA 95050 (Full address will be shown on Thu, Apr 23 7:00am)
TRANSP: OPAQUE
SEQUENCE:0
UID:
DTSTAMP:20260423T074342Z
SUMMARY:Santa Clara-Pop up sale Eclectic things!
DESCRIPTION:Santa Clara-Pop up sale Eclectic things! Always At Your Beck and Call-Concierge Estate Services 
UID:1776951822
STREET-ADDRESS:See website
POSTAL-CODE:95050
LOCALITY:Santa Clara
REGION:ABBREV=CA
COUNTRY:ABBREV=US;ABBREV=USA:United States
URL;TYPE=Event Listing:https://estatesales.org/estate-sales/ca/santa-clara/95050/santa-clarapop-up-sale-eclectic-2436526
PRIORITY:1
CLASS:PUBLIC
SEQUENCE:0
STATUS:CONFIRMED
TRANSP:OPAQUE
END:VEVENT
END:VCALENDAR
