BEGIN:VCALENDAR
VERSION:2.0
METHOD:PUBLISH
BEGIN:VEVENT
DTSTART:20260423T160000Z
DTEND:20260426T220000Z
LOCATION:Fair Oaks, CA 95628 (Full address will be shown on Wed, Apr 22 8:00am)
TRANSP: OPAQUE
SEQUENCE:0
UID:
DTSTAMP:20260421T231103Z
SUMMARY:Huge Fair Oaks Estate Sale BY A Simple Solution Estate Sale Company
DESCRIPTION:Huge Fair Oaks Estate Sale BY A Simple Solution Estate Sale Company A Simple Solution Estate Sale Company 
UID:1776834663
STREET-ADDRESS:See website
POSTAL-CODE:95628
LOCALITY:Fair Oaks
REGION:ABBREV=CA
COUNTRY:ABBREV=US;ABBREV=USA:United States
URL;TYPE=Event Listing:https://estatesales.org/estate-sales/ca/fair-oaks/95628/huge-fair-oaks-estate-sale-2434955
PRIORITY:1
CLASS:PUBLIC
SEQUENCE:0
STATUS:CONFIRMED
TRANSP:OPAQUE
END:VEVENT
END:VCALENDAR
