BEGIN:VCALENDAR
VERSION:2.0
METHOD:PUBLISH
BEGIN:VEVENT
DTSTART:20260423T130000Z
DTEND:20260425T180000Z
LOCATION:Brunswick, GA 31525 (Full address will be shown on Wed, Apr 22 9:00am)
TRANSP: OPAQUE
SEQUENCE:0
UID:
DTSTAMP:20260420T030415Z
SUMMARY:Estate of Col. Thomas Fuller--Designer Danish Modern Furnishings, Vtg Audio, Pyrex & More
DESCRIPTION:Estate of Col. Thomas Fuller--Designer Danish Modern Furnishings, Vtg Audio, Pyrex & More Reggie's Attic & Estate Management Co. 
UID:1776675855
STREET-ADDRESS:See website
POSTAL-CODE:31525
LOCALITY:Brunswick
REGION:ABBREV=GA
COUNTRY:ABBREV=US;ABBREV=USA:United States
URL;TYPE=Event Listing:https://estatesales.org/estate-sales/ga/brunswick/31525/estate-of-col-thomas-fullerdesigner-2436117
PRIORITY:1
CLASS:PUBLIC
SEQUENCE:0
STATUS:CONFIRMED
TRANSP:OPAQUE
END:VEVENT
END:VCALENDAR
