BEGIN:VCALENDAR
VERSION:2.0
METHOD:PUBLISH
BEGIN:VEVENT
DTSTART:20260423T150000Z
DTEND:20260425T200000Z
LOCATION:Southlake, TX 76092 (Full address will be shown on Wed, Apr 22 12:00am)
TRANSP: OPAQUE
SEQUENCE:0
UID:
DTSTAMP:20260420T053914Z
SUMMARY:Retro Betties Southlake Estate Sale
DESCRIPTION:Retro Betties Southlake Estate Sale Retro Betties 
UID:1776685154
STREET-ADDRESS:See website
POSTAL-CODE:76092
LOCALITY:Southlake
REGION:ABBREV=TX
COUNTRY:ABBREV=US;ABBREV=USA:United States
URL;TYPE=Event Listing:https://estatesales.org/estate-sales/tx/southlake/76092/retro-betties-southlake-estate-sale-2436070
PRIORITY:1
CLASS:PUBLIC
SEQUENCE:0
STATUS:CONFIRMED
TRANSP:OPAQUE
END:VEVENT
END:VCALENDAR
