BEGIN:VCALENDAR
VERSION:2.0
METHOD:PUBLISH
BEGIN:VEVENT
DTSTART:20260423T150000Z
DTEND:20260426T210000Z
LOCATION:Gilbert, AZ 85298 (Full address will be shown on Wed, Apr 22 9:00am)
TRANSP: OPAQUE
SEQUENCE:0
UID:
DTSTAMP:20260419T174448Z
SUMMARY:Modern Elegance in Trilogy
DESCRIPTION:Modern Elegance in Trilogy AZ Elegant Estates LLC 
UID:1776642288
STREET-ADDRESS:See website
POSTAL-CODE:85298
LOCALITY:Gilbert
REGION:ABBREV=AZ
COUNTRY:ABBREV=US;ABBREV=USA:United States
URL;TYPE=Event Listing:https://estatesales.org/estate-sales/az/gilbert-/85298/modern-elegance-in-trilogy-2436042
PRIORITY:1
CLASS:PUBLIC
SEQUENCE:0
STATUS:CONFIRMED
TRANSP:OPAQUE
END:VEVENT
END:VCALENDAR
