BEGIN:VCALENDAR
VERSION:2.0
METHOD:PUBLISH
BEGIN:VEVENT
DTSTART:20260423T120000Z
DTEND:20260425T160000Z
LOCATION:Springfield, MO 65809 (Full address will be shown on Wed, Apr 22 12:00am)
TRANSP: OPAQUE
SEQUENCE:0
UID:
DTSTAMP:20260419T162655Z
SUMMARY:Northridge Estate Sale
DESCRIPTION:Northridge Estate Sale Christina & Co To The Rescue 
UID:1776637615
STREET-ADDRESS:See website
POSTAL-CODE:65809
LOCALITY:Springfield
REGION:ABBREV=MO
COUNTRY:ABBREV=US;ABBREV=USA:United States
URL;TYPE=Event Listing:https://estatesales.org/estate-sales/mo/springfield/65809/northridge-estate-sale-2436033
PRIORITY:1
CLASS:PUBLIC
SEQUENCE:0
STATUS:CONFIRMED
TRANSP:OPAQUE
END:VEVENT
END:VCALENDAR
