BEGIN:VCALENDAR
VERSION:2.0
METHOD:PUBLISH
BEGIN:VEVENT
DTSTART:20260423T150000Z
DTEND:20260423T200000Z
LOCATION:Los Angeles, CA 91042 (Full address will be shown on Wed, Apr 22 8:30pm)
TRANSP: OPAQUE
SEQUENCE:0
UID:
DTSTAMP:20260422T132824Z
SUMMARY:LAST MINUTE BLOW OUT ESTATE SALE IN TUJUNGA! ONE DAY ONLY!!!!
DESCRIPTION:LAST MINUTE BLOW OUT ESTATE SALE IN TUJUNGA! ONE DAY ONLY!!!! Orange Blossom Estates 
UID:1776886104
STREET-ADDRESS:See website
POSTAL-CODE:91042
LOCALITY:Los Angeles
REGION:ABBREV=CA
COUNTRY:ABBREV=US;ABBREV=USA:United States
URL;TYPE=Event Listing:https://estatesales.org/estate-sales/ca/los-angeles/91042/last-minute-blow-out-estate-2436608
PRIORITY:1
CLASS:PUBLIC
SEQUENCE:0
STATUS:CONFIRMED
TRANSP:OPAQUE
END:VEVENT
END:VCALENDAR
