BEGIN:VCALENDAR
VERSION:2.0
METHOD:PUBLISH
BEGIN:VEVENT
DTSTART:20220423T150000Z
DTEND:20220424T220000Z
LOCATION:Portland, OR 97225
TRANSP: OPAQUE
SEQUENCE:0
UID:
DTSTAMP:20260419T113746Z
SUMMARY:Cedar Hills Estate Sale by Elizabeth Ann's Estate Sales
DESCRIPTION:Cedar Hills Estate Sale by Elizabeth Ann's Estate Sales Elizabeth Ann's Estate Sales 
UID:1776620266
STREET-ADDRESS:See website
POSTAL-CODE:97225
LOCALITY:Portland
REGION:ABBREV=OR
COUNTRY:ABBREV=US;ABBREV=USA:United States
URL;TYPE=Event Listing:https://estatesales.org/estate-sales/or/portland/97225/cedar-hills-estate-sale-by-2030697
PRIORITY:1
CLASS:PUBLIC
SEQUENCE:0
STATUS:CONFIRMED
TRANSP:OPAQUE
END:VEVENT
END:VCALENDAR
