BEGIN:VCALENDAR
VERSION:2.0
METHOD:PUBLISH
BEGIN:VEVENT
DTSTART:20220423T160000Z
DTEND:20220424T210000Z
LOCATION:Los Angeles, CA 90026
TRANSP: OPAQUE
SEQUENCE:0
UID:
DTSTAMP:20260420T020310Z
SUMMARY:50 - 80% off most items - furniture - Antiques, Vintage to New Items. Something For Everyone
DESCRIPTION:50 - 80% off most items - furniture - Antiques, Vintage to New Items. Something For Everyone Triumphant Estate Sales of Los Angeles 
UID:1776672190
STREET-ADDRESS:See website
POSTAL-CODE:90026
LOCALITY:Los Angeles
REGION:ABBREV=CA
COUNTRY:ABBREV=US;ABBREV=USA:United States
URL;TYPE=Event Listing:https://estatesales.org/estate-sales/ca/los-angeles/90026/50-80-off-most-items-2031423
PRIORITY:1
CLASS:PUBLIC
SEQUENCE:0
STATUS:CONFIRMED
TRANSP:OPAQUE
END:VEVENT
END:VCALENDAR
