BEGIN:VCALENDAR
VERSION:2.0
METHOD:PUBLISH
BEGIN:VEVENT
DTSTART:20260422T130000Z
DTEND:20260425T180000Z
LOCATION:Russell, KY 41169 (Full address will be shown on Tue, Apr 21 9:00am)
TRANSP: OPAQUE
SEQUENCE:0
UID:
DTSTAMP:20260419T181341Z
SUMMARY:Estate Sale of Pat & Jim Shope PART 1--Antiques, Craft & Art Supplies, Furniture, & More
DESCRIPTION:Estate Sale of Pat & Jim Shope PART 1--Antiques, Craft & Art Supplies, Furniture, & More Reggie's Attic & Estate Management Co. 
UID:1776644021
STREET-ADDRESS:See website
POSTAL-CODE:41169
LOCALITY:Russell
REGION:ABBREV=KY
COUNTRY:ABBREV=US;ABBREV=USA:United States
URL;TYPE=Event Listing:https://estatesales.org/estate-sales/ky/russell/41169/estate-sale-of-pat-jim-2436038
PRIORITY:1
CLASS:PUBLIC
SEQUENCE:0
STATUS:CONFIRMED
TRANSP:OPAQUE
END:VEVENT
END:VCALENDAR
