BEGIN:VCALENDAR
VERSION:2.0
METHOD:PUBLISH
BEGIN:VEVENT
DTSTART:20260422T143000Z
DTEND:20260424T220000Z
LOCATION:Stroud, OK 74079 (Full address will be shown on Tue, Apr 21 12:00pm)
TRANSP: OPAQUE
SEQUENCE:0
UID:
DTSTAMP:20260419T100122Z
SUMMARY:ESTATE SALE -pyrex, tools and more
DESCRIPTION:ESTATE SALE -pyrex, tools and more Rustic Sisters Estate Sales 
UID:1776614482
STREET-ADDRESS:See website
POSTAL-CODE:74079
LOCALITY:Stroud
REGION:ABBREV=OK
COUNTRY:ABBREV=US;ABBREV=USA:United States
URL;TYPE=Event Listing:https://estatesales.org/estate-sales/ok/stroud/74079/estate-sale-pyrex-tools-and-2435985
PRIORITY:1
CLASS:PUBLIC
SEQUENCE:0
STATUS:CONFIRMED
TRANSP:OPAQUE
END:VEVENT
END:VCALENDAR
