BEGIN:VCALENDAR
VERSION:2.0
METHOD:PUBLISH
BEGIN:VEVENT
DTSTART:20230422T130000Z
DTEND:20230422T180000Z
LOCATION:Marlborough, MA 01752
TRANSP: OPAQUE
SEQUENCE:0
UID:
DTSTAMP:20260420T051829Z
SUMMARY:YARD SALE Indoor & Outdoor in the Field. Saturday APRIL 22, 2023 @ 9 AM - 2 PM
DESCRIPTION:YARD SALE Indoor & Outdoor in the Field. Saturday APRIL 22, 2023 @ 9 AM - 2 PM filly89 AUCTIONS 
UID:1776683909
STREET-ADDRESS:See website
POSTAL-CODE:01752
LOCALITY:Marlborough
REGION:ABBREV=MA
COUNTRY:ABBREV=US;ABBREV=USA:United States
URL;TYPE=Event Listing:https://estatesales.org/estate-sales/ma/marlborough/01752/yard-sale-indoor-outdoor-in-2171235
PRIORITY:1
CLASS:PUBLIC
SEQUENCE:0
STATUS:CONFIRMED
TRANSP:OPAQUE
END:VEVENT
END:VCALENDAR
