BEGIN:VCALENDAR
VERSION:2.0
METHOD:PUBLISH
BEGIN:VEVENT
DTSTART:20210422T170000Z
DTEND:20210424T220000Z
LOCATION:San Pedro, CA 90731
TRANSP: OPAQUE
SEQUENCE:0
UID:
DTSTAMP:20260423T162938Z
SUMMARY:*60% Off Saturday & Willing to Negotiate - Italian Cultural
DESCRIPTION:*60% Off Saturday & Willing to Negotiate - Italian Cultural Diamond Heirlooms Estate Sales & Consulting  LLC 
UID:1776983378
STREET-ADDRESS:See website
POSTAL-CODE:90731
LOCALITY:San Pedro
REGION:ABBREV=CA
COUNTRY:ABBREV=US;ABBREV=USA:United States
URL;TYPE=Event Listing:https://estatesales.org/estate-sales/ca/san-pedro/90731/60-off-saturday-willing-to-1881775
PRIORITY:1
CLASS:PUBLIC
SEQUENCE:0
STATUS:CONFIRMED
TRANSP:OPAQUE
END:VEVENT
END:VCALENDAR
