BEGIN:VCALENDAR
VERSION:2.0
METHOD:PUBLISH
BEGIN:VEVENT
DTSTART:20210422T160000Z
DTEND:20210424T210000Z
LOCATION:Hermosa Beach, CA 90254
TRANSP: OPAQUE
SEQUENCE:0
UID:
DTSTAMP:20260420T172949Z
SUMMARY:Something for Everyone & Everything for sale, Sale!!
DESCRIPTION:Something for Everyone & Everything for sale, Sale!! Pointe Estate Specialists 
UID:1776727789
STREET-ADDRESS:See website
POSTAL-CODE:90254
LOCALITY:Hermosa Beach
REGION:ABBREV=CA
COUNTRY:ABBREV=US;ABBREV=USA:United States
URL;TYPE=Event Listing:https://estatesales.org/estate-sales/ca/hermosa-beach/90254/something-for-everyone-everything-for-1892883
PRIORITY:1
CLASS:PUBLIC
SEQUENCE:0
STATUS:CONFIRMED
TRANSP:OPAQUE
END:VEVENT
END:VCALENDAR
