BEGIN:VCALENDAR
VERSION:2.0
METHOD:PUBLISH
BEGIN:VEVENT
DTSTART:20260422T030400Z
DTEND:20260426T220000Z
LOCATION:Hollister, CA 95023 (Full address will be shown on Fri, Apr 24 8:00am)
TRANSP: OPAQUE
SEQUENCE:0
UID:
DTSTAMP:20260421T235241Z
SUMMARY:Historic Hollister Estate: FRI / SAT / SUN - Wagon Wheels, Indian Artifacts, Silver, Landscape Rocks
DESCRIPTION:Historic Hollister Estate: FRI / SAT / SUN - Wagon Wheels, Indian Artifacts, Silver, Landscape Rocks Estate Auctioneer 
UID:1776837161
STREET-ADDRESS:See website
POSTAL-CODE:95023
LOCALITY:Hollister
REGION:ABBREV=CA
COUNTRY:ABBREV=US;ABBREV=USA:United States
URL;TYPE=Event Listing:https://estatesales.org/estate-sales/ca/hollister-/95023/historic-hollister-estate-fri-sat-2436516
PRIORITY:1
CLASS:PUBLIC
SEQUENCE:0
STATUS:CONFIRMED
TRANSP:OPAQUE
END:VEVENT
END:VCALENDAR
