BEGIN:VCALENDAR
VERSION:2.0
METHOD:PUBLISH
BEGIN:VEVENT
DTSTART:20230421T130000Z
DTEND:20230422T180000Z
LOCATION:Newport, RI 02840
TRANSP: OPAQUE
SEQUENCE:0
UID:
DTSTAMP:20260420T012553Z
SUMMARY:Newport  Downsizing Sale
DESCRIPTION:Newport  Downsizing Sale Hidden Treasures Estate Sales & Cleanouts 
UID:1776669953
STREET-ADDRESS:See website
POSTAL-CODE:02840
LOCALITY:Newport
REGION:ABBREV=RI
COUNTRY:ABBREV=US;ABBREV=USA:United States
URL;TYPE=Event Listing:https://estatesales.org/estate-sales/ri/newport/02840/newport-downsizing-sale-2168657
PRIORITY:1
CLASS:PUBLIC
SEQUENCE:0
STATUS:CONFIRMED
TRANSP:OPAQUE
END:VEVENT
END:VCALENDAR
