BEGIN:VCALENDAR
VERSION:2.0
METHOD:PUBLISH
BEGIN:VEVENT
DTSTART:20180421T133000Z
DTEND:20180422T180000Z
LOCATION:Staten Island, NY 10310
TRANSP: OPAQUE
SEQUENCE:0
UID:
DTSTAMP:20260425T162308Z
SUMMARY:EASY PICKING IS IN STATEN ISLAND, NY FOR A 2 DAY SALE. HOME IS PACKED!  MID CENTURY FURNITURE.
DESCRIPTION:EASY PICKING IS IN STATEN ISLAND, NY FOR A 2 DAY SALE. HOME IS PACKED!  MID CENTURY FURNITURE. Easy Picking Estate Sales 
UID:1777155788
STREET-ADDRESS:See website
POSTAL-CODE:10310
LOCALITY:Staten Island
REGION:ABBREV=NY
COUNTRY:ABBREV=US;ABBREV=USA:United States
URL;TYPE=Event Listing:https://estatesales.org/estate-sales/ny/staten-island/10310/easy-picking-is-in-staten-1502473
PRIORITY:1
CLASS:PUBLIC
SEQUENCE:0
STATUS:CONFIRMED
TRANSP:OPAQUE
END:VEVENT
END:VCALENDAR
